BEGIN:VCALENDAR
VERSION:2.0
PRODID:-//AIA Miami | The Miami Chapter of American Institute of Architects - ECPv6.1.3//NONSGML v1.0//EN
CALSCALE:GREGORIAN
METHOD:PUBLISH
X-WR-CALNAME:AIA Miami | The Miami Chapter of American Institute of Architects
X-ORIGINAL-URL:https://aiamiami.org
X-WR-CALDESC:Events for AIA Miami | The Miami Chapter of American Institute of Architects
REFRESH-INTERVAL;VALUE=DURATION:PT1H
X-Robots-Tag:noindex
X-PUBLISHED-TTL:PT1H
BEGIN:VTIMEZONE
TZID:America/New_York
BEGIN:DAYLIGHT
TZOFFSETFROM:-0500
TZOFFSETTO:-0400
TZNAME:EDT
DTSTART:20260308T070000
END:DAYLIGHT
BEGIN:STANDARD
TZOFFSETFROM:-0400
TZOFFSETTO:-0500
TZNAME:EST
DTSTART:20261101T060000
END:STANDARD
END:VTIMEZONE
BEGIN:VEVENT
DTSTART;TZID=America/New_York:20260507T180000
DTEND;TZID=America/New_York:20260507T210000
DTSTAMP:20260423T064613
CREATED:20260310T152546Z
LAST-MODIFIED:20260311T154116Z
UID:33744-1778176800-1778187600@aiamiami.org
SUMMARY:South Florida Young Architect Awards: Tickets & Sponsorships Available
DESCRIPTION:These awards recognize the hard work and career advancement of employees at Miami Dade and Broward county firms. We also take time to celebrate those who have achieved licensure within the last 12 months. We hope to see your office represented at this year’s reception. \nJoin the AIA Miami & AIA Ft. Lauderdale chapters in celebrating South Florida’s next generation of Emerging Professionals\, up-and-coming Associates\, and the firms that best support them. Awards include Rising Star of the Year\, Entrepreneur of the Year\, Project Manager of the Year\, and Best Place to Work. \nWHAT ARE THE EP AWARDS?\nThe Emerging Professionals Awards recognize excellence in the Architecture profession by architects who have achieved licensure within the past ten years and Associates or AIAS members currently pursuing licensure. It is hosted annually by the AIA Miami and the AIA Fort Lauderdale Chapters of the American Institute of Architects. \nJoin us as we announce the winners on Thursday\, May 7\, 2026 \nWHO CAN APPLY?\nThe submittals are open to architecture students\, architectural design professionals\, and architects licensed less than 10 years\, and are open to both AIA/AIAS Members and Non-Members. Entries can be submitted by individuals or by firms who reside/work in Broward or Miami-Dade Counties. \nSubmittals are accepted until 11:59pm on April 10th\, 2026 \nTickets Sponsorship
URL:https://aiamiami.org/event/south-florida-young-architect-awards/
CATEGORIES:Force Calendar,In the News,Mark Your Calendar
ATTACH;FMTTYPE=image/jpeg:https://media.aiamiami.org/wp-content/uploads/2026/03/ep-awards-2026-thumb.jpg
END:VEVENT
BEGIN:VEVENT
DTSTART;TZID=America/New_York:20260615T090000
DTEND;TZID=America/New_York:20260626T150000
DTSTAMP:20260423T064613
CREATED:20260304T201940Z
LAST-MODIFIED:20260406T195328Z
UID:33711-1781514000-1782486000@aiamiami.org
SUMMARY:2026 AIM Summer Camp Program
DESCRIPTION:Registration now open. Space is very limited! \nAt AIM\, our mission is to inspire young minds by building a creative foundation through the universal language of architecture and design. This fun and engaging two-week summer camp offers students an immersive exploration of the field of architecture through the lenses of art\, history\, mathematics\, science\, and hands-on experimentation. Field trips\, guest speakers and other fun activities round out the student’s day. Enrollment is limited\, particularly due to a high number of returning campers\, so early registration is strongly encouraged. Students are organized into age-based studios\, beginning with Studio 1 for ages 8–10 and progressing through Studio 4 for older students. Classes are led by licensed architects and architecture students and are designed to be fun\, challenging\, and intellectually engaging. Now in its 20th year\, this program is proudly offered in partnership with a University School of Architecture. \nLearn More  Register  \n\nField Trips: \nJune 17: Freedom Tower Tour\nJune 24: Sandblast Competition / Crandon Park / Shelter 7 \n\nSponsorship Opportunities \nArchitects in the Making is AIA Miami’s youth educational program comprised of local volunteer leading architects. Since 2006\, we have helped inspire and shape the next generation of architects and designers. \nThis program would not be possible without the generous support of local firms and individuals who want to leave a lasting impact on the architecture community. Sponsors benefit from exposure to our vast community of architects\, builders\, and industry professionals. \nMake a difference in the education of young architects and designers. \nLearn More Become a Sponsor  \n\n 
URL:https://aiamiami.org/event/2026-aim-summer-camp-program/
CATEGORIES:Featured,Force Calendar,In the News,Mark Your Calendar
ATTACH;FMTTYPE=image/jpeg:https://media.aiamiami.org/wp-content/uploads/2026/03/aim-2026-thumb.jpg
END:VEVENT
END:VCALENDAR