BEGIN:VCALENDAR
VERSION:2.0
PRODID:-//AIA Miami | The Miami Chapter of American Institute of Architects - ECPv6.1.3//NONSGML v1.0//EN
CALSCALE:GREGORIAN
METHOD:PUBLISH
X-WR-CALNAME:AIA Miami | The Miami Chapter of American Institute of Architects
X-ORIGINAL-URL:https://aiamiami.org
X-WR-CALDESC:Events for AIA Miami | The Miami Chapter of American Institute of Architects
REFRESH-INTERVAL;VALUE=DURATION:PT1H
X-Robots-Tag:noindex
X-PUBLISHED-TTL:PT1H
BEGIN:VTIMEZONE
TZID:America/New_York
BEGIN:DAYLIGHT
TZOFFSETFROM:-0500
TZOFFSETTO:-0400
TZNAME:EDT
DTSTART:20260308T070000
END:DAYLIGHT
BEGIN:STANDARD
TZOFFSETFROM:-0400
TZOFFSETTO:-0500
TZNAME:EST
DTSTART:20261101T060000
END:STANDARD
END:VTIMEZONE
BEGIN:VEVENT
DTSTART;VALUE=DATE:20260715
DTEND;VALUE=DATE:20260719
DTSTAMP:20260421T184022
CREATED:20260416T181230Z
LAST-MODIFIED:20260416T181230Z
UID:33899-1784073600-1784419199@aiamiami.org
SUMMARY:AIA Florida 2026 Convention and Trade Show
DESCRIPTION:Design Together. The emergent properties of leadership\, mentorship\, and business success.
URL:https://aiamiami.org/event/aia-florida-2026-convention-and-trade-show/
CATEGORIES:Featured,Mark Your Calendar
ATTACH;FMTTYPE=image/jpeg:https://media.aiamiami.org/wp-content/uploads/2026/04/design-together-thumb.jpg
END:VEVENT
END:VCALENDAR