BEGIN:VCALENDAR
VERSION:2.0
PRODID:-//AIA Miami | The Miami Chapter of American Institute of Architects - ECPv6.1.3//NONSGML v1.0//EN
CALSCALE:GREGORIAN
METHOD:PUBLISH
X-ORIGINAL-URL:https://aiamiami.org
X-WR-CALDESC:Events for AIA Miami | The Miami Chapter of American Institute of Architects
REFRESH-INTERVAL;VALUE=DURATION:PT1H
X-Robots-Tag:noindex
X-PUBLISHED-TTL:PT1H
BEGIN:VTIMEZONE
TZID:America/New_York
BEGIN:DAYLIGHT
TZOFFSETFROM:-0500
TZOFFSETTO:-0400
TZNAME:EDT
DTSTART:20260308T070000
END:DAYLIGHT
BEGIN:STANDARD
TZOFFSETFROM:-0400
TZOFFSETTO:-0500
TZNAME:EST
DTSTART:20261101T060000
END:STANDARD
END:VTIMEZONE
BEGIN:VEVENT
DTSTART;TZID=America/New_York:20260411T100000
DTEND;TZID=America/New_York:20260411T120000
DTSTAMP:20260421T133004
CREATED:20260325T073235Z
LAST-MODIFIED:20260325T073235Z
UID:33817-1775901600-1775908800@aiamiami.org
SUMMARY:Downtown Miami Historic District Architectural Walking Tour presented by MCAD
DESCRIPTION:Learn the history of Miami and its people through its buildings. Join us on a tour that will lead you on a journey to downtown Miami’s most historic and architecturally significant buildings. \nWhether you are an architect\, a history buff\, or just a fan of Miami\, this tour is for you!
URL:https://aiamiami.org/event/downtown-miami-historic-district-architectural-walking-tour-presented-by-mcad/
CATEGORIES:Featured,Mark Your Calendar
ATTACH;FMTTYPE=image/jpeg:https://media.aiamiami.org/wp-content/uploads/2026/03/mcad-tour-apr11-26-thumb.jpg
END:VEVENT
END:VCALENDAR