BEGIN:VCALENDAR
VERSION:2.0
PRODID:-//AIA Miami | The Miami Chapter of American Institute of Architects - ECPv6.1.3//NONSGML v1.0//EN
CALSCALE:GREGORIAN
METHOD:PUBLISH
X-WR-CALNAME:AIA Miami | The Miami Chapter of American Institute of Architects
X-ORIGINAL-URL:https://aiamiami.org
X-WR-CALDESC:Events for AIA Miami | The Miami Chapter of American Institute of Architects
REFRESH-INTERVAL;VALUE=DURATION:PT1H
X-Robots-Tag:noindex
X-PUBLISHED-TTL:PT1H
BEGIN:VTIMEZONE
TZID:America/New_York
BEGIN:DAYLIGHT
TZOFFSETFROM:-0500
TZOFFSETTO:-0400
TZNAME:EDT
DTSTART:20260308T070000
END:DAYLIGHT
BEGIN:STANDARD
TZOFFSETFROM:-0400
TZOFFSETTO:-0500
TZNAME:EST
DTSTART:20261101T060000
END:STANDARD
END:VTIMEZONE
BEGIN:VEVENT
DTSTART;TZID=America/New_York:20260410T110000
DTEND;TZID=America/New_York:20260410T110000
DTSTAMP:20260421T132942
CREATED:20260108T150958Z
LAST-MODIFIED:20260413T212903Z
UID:33243-1775818800-1775818800@aiamiami.org
SUMMARY:Register Today! AIA Miami 2026 Golf Tournament
DESCRIPTION:Join AIA Miami for a great day out on the Golf Course at the 2026 AIA Miami annual Golf Tournament at the beautiful Miami Shores Country Club. Sign up to sponsor\, Golf\, volunteer or come for the great awards dinner. \n$1\,000 1st Place Prize! \n11:00 AM Registration\n12:00 PM Playing starts\n5:00 PM Awards \nRegister Sponsor Donate \n\nThanks to our 2026 Golf Tournament Sponsors!\n\nGold Partners:\nAward Banquet SponsorGolf Ball SponsorTequila Station SponsorTequila Station Sponsor \n\n 
URL:https://aiamiami.org/event/save-the-date-aia-miami-2026-golf-tournament/
LOCATION:Miami Shores Country Club\, 10000 Biscayne Boulevard\, Miami Shores\, 33138
CATEGORIES:Featured,Mark Your Calendar
ATTACH;FMTTYPE=image/jpeg:https://media.aiamiami.org/wp-content/uploads/2026/01/golf-2026-thumb-1.jpg
END:VEVENT
END:VCALENDAR