BEGIN:VCALENDAR
VERSION:2.0
PRODID:-//AIA Miami | The Miami Chapter of American Institute of Architects - ECPv6.1.3//NONSGML v1.0//EN
CALSCALE:GREGORIAN
METHOD:PUBLISH
X-WR-CALNAME:AIA Miami | The Miami Chapter of American Institute of Architects
X-ORIGINAL-URL:https://aiamiami.org
X-WR-CALDESC:Events for AIA Miami | The Miami Chapter of American Institute of Architects
REFRESH-INTERVAL;VALUE=DURATION:PT1H
X-Robots-Tag:noindex
X-PUBLISHED-TTL:PT1H
BEGIN:VTIMEZONE
TZID:America/New_York
BEGIN:DAYLIGHT
TZOFFSETFROM:-0500
TZOFFSETTO:-0400
TZNAME:EDT
DTSTART:20260308T070000
END:DAYLIGHT
BEGIN:STANDARD
TZOFFSETFROM:-0400
TZOFFSETTO:-0500
TZNAME:EST
DTSTART:20261101T060000
END:STANDARD
END:VTIMEZONE
BEGIN:VEVENT
DTSTART;TZID=America/New_York:20260224T173000
DTEND;TZID=America/New_York:20260224T200000
DTSTAMP:20260421T151613
CREATED:20260128T210942Z
LAST-MODIFIED:20260211T191359Z
UID:33379-1771954200-1771963200@aiamiami.org
SUMMARY:AIA Miami Town Hall Meeting / Miami-Dade County Comprehensive Development Master Plan
DESCRIPTION:Join AIA Miami’s representative\, Aaron DeMayo\, at a Town Hall Meeting to discuss insights and gather feedback to ensure our collective voice is heard. \nIn addition to this Town Hall meeting for AIA Miami members\, you are invited to attend the County Master Plan Workshops. \nHere’s more information on the Workshops. \nAIA Miami wants to keep our members informed on the ongoing work of the Evaluation and Appraisal Report (EAR) Task Force. The EAR is a major\, state-mandated audit that occurs every seven years to assess whether the County’s Comprehensive Development Master Plan (CDMP) is effectively meeting its goals across a wide range of critical issues\, including housing\, transit\, and resilience. \nWe are proud to share that Mayor Daniella Levine Cava has specifically selected the AIA Miami Chapter to serve on this Task Force\, recognizing the vital role architects play in shaping our community. This is a significant milestone for our profession\, as the AIA did not have direct membership in the previous two EAR cycles (2012 and 2018). Having a direct voice at the table is a privilege\, but it requires the active participation of our membership to be effective.
URL:https://aiamiami.org/event/aia-miami-town-hall-meeting-miami-dade-county-comprehensive-development-master-plan/
LOCATION:AECOM\, 2 Alhambra Plaza\, Suite 900\, Coral Gables\, FL\, 33134\, United States
CATEGORIES:Featured,Mark Your Calendar
ATTACH;FMTTYPE=image/png:https://media.aiamiami.org/wp-content/uploads/2026/01/town-hall-feb24-thumb.png
END:VEVENT
END:VCALENDAR