BEGIN:VCALENDAR
VERSION:2.0
PRODID:-//AIA Miami | The Miami Chapter of American Institute of Architects - ECPv6.1.3//NONSGML v1.0//EN
CALSCALE:GREGORIAN
METHOD:PUBLISH
X-WR-CALNAME:AIA Miami | The Miami Chapter of American Institute of Architects
X-ORIGINAL-URL:https://aiamiami.org
X-WR-CALDESC:Events for AIA Miami | The Miami Chapter of American Institute of Architects
REFRESH-INTERVAL;VALUE=DURATION:PT1H
X-Robots-Tag:noindex
X-PUBLISHED-TTL:PT1H
BEGIN:VTIMEZONE
TZID:America/New_York
BEGIN:DAYLIGHT
TZOFFSETFROM:-0500
TZOFFSETTO:-0400
TZNAME:EDT
DTSTART:20260308T070000
END:DAYLIGHT
BEGIN:STANDARD
TZOFFSETFROM:-0400
TZOFFSETTO:-0500
TZNAME:EST
DTSTART:20261101T060000
END:STANDARD
END:VTIMEZONE
BEGIN:VEVENT
DTSTART;TZID=America/New_York:20260205T140000
DTEND;TZID=America/New_York:20260205T210000
DTSTAMP:20260421T165208
CREATED:20260128T212739Z
LAST-MODIFIED:20260205T140256Z
UID:33391-1770300000-1770325200@aiamiami.org
SUMMARY:Please join Lighting Dynamics! Dynamic Light Fest 2026
DESCRIPTION:Light up your senses at “Dynamic Light Fest” — an immersive celebration of light and energy on February 5\, 2026. \nDynamic Light Fest presented by Lighting Dynamics \nJoin us for an electrifying evening at the Dynamic Light Fest! Get ready to be mesmerized by a spectacular display of lights\, music\, and fun. This in-person event will be held at 7835 West Commercial Boulevard\, Tamarac\, FL\, USA. Don’t miss out on this unforgettable experience! Grab your co-workers and industry friends\, and immerse yourself in a world of vibrant new technology and pulsating beats. Get ready to discover\, laugh\, and create memories that will last a lifetime. Mark your calendars and get ready to have a blast at the Dynamic Light Fest!
URL:https://aiamiami.org/event/please-join-lighting-dynamics-dynamic-light-fest-2026/
LOCATION:Lighting Dynamics\, Inc.\, 7835 West Commercial Boulevard\, Tamarac\, FL\, 33351\, United States
CATEGORIES:Featured
ATTACH;FMTTYPE=image/jpeg:https://media.aiamiami.org/wp-content/uploads/2026/01/light-fest-thumb.jpg
END:VEVENT
END:VCALENDAR