BEGIN:VCALENDAR
VERSION:2.0
PRODID:-//AIA Miami | The Miami Chapter of American Institute of Architects - ECPv6.1.3//NONSGML v1.0//EN
CALSCALE:GREGORIAN
METHOD:PUBLISH
X-ORIGINAL-URL:https://aiamiami.org
X-WR-CALDESC:Events for AIA Miami | The Miami Chapter of American Institute of Architects
REFRESH-INTERVAL;VALUE=DURATION:PT1H
X-Robots-Tag:noindex
X-PUBLISHED-TTL:PT1H
BEGIN:VTIMEZONE
TZID:America/New_York
BEGIN:DAYLIGHT
TZOFFSETFROM:-0500
TZOFFSETTO:-0400
TZNAME:EDT
DTSTART:20260308T070000
END:DAYLIGHT
BEGIN:STANDARD
TZOFFSETFROM:-0400
TZOFFSETTO:-0500
TZNAME:EST
DTSTART:20261101T060000
END:STANDARD
END:VTIMEZONE
BEGIN:VEVENT
DTSTART;TZID=America/New_York:20260131T183000
DTEND;TZID=America/New_York:20260131T183000
DTSTAMP:20260421T165224
CREATED:20251216T222123Z
LAST-MODIFIED:20260129T190439Z
UID:33142-1769884200-1769884200@aiamiami.org
SUMMARY:Cancelled / To Be Rescheduled: Full Moon Bike Ride At Shark Valley National Park
DESCRIPTION:Due to the high probability of strong gusting winds and temperatures predicted to dip into the mid 30s\, this event has been cancelled – to be rescheduled.\nLook for the new dates. Contact AIA Miami if you have any questions. \n\nRIDE THE 15-MILE LOOP WITH US UNDER A FULL MOON AT SHARK VALLEY NATIONAL PARK \nJoin AIA Miami for a moonlight bike ride through Shark Valley National Park – to benefit the AIA Miami Resiliency Committee. View nocturnal animals and birds and enjoy the silvery reflection of the full moon on the waters of the everglades.
URL:https://aiamiami.org/event/full-moon-bike-ride-at-shark-valley-national-park/
CATEGORIES:Featured,Mark Your Calendar
ATTACH;FMTTYPE=image/png:https://media.aiamiami.org/wp-content/uploads/2023/06/postponed-shark-thumb.png
END:VEVENT
END:VCALENDAR