BEGIN:VCALENDAR
VERSION:2.0
PRODID:-//AIA Miami | The Miami Chapter of American Institute of Architects - ECPv6.1.3//NONSGML v1.0//EN
CALSCALE:GREGORIAN
METHOD:PUBLISH
X-ORIGINAL-URL:https://aiamiami.org
X-WR-CALDESC:Events for AIA Miami | The Miami Chapter of American Institute of Architects
REFRESH-INTERVAL;VALUE=DURATION:PT1H
X-Robots-Tag:noindex
X-PUBLISHED-TTL:PT1H
BEGIN:VTIMEZONE
TZID:America/New_York
BEGIN:DAYLIGHT
TZOFFSETFROM:-0500
TZOFFSETTO:-0400
TZNAME:EDT
DTSTART:20260308T070000
END:DAYLIGHT
BEGIN:STANDARD
TZOFFSETFROM:-0400
TZOFFSETTO:-0500
TZNAME:EST
DTSTART:20261101T060000
END:STANDARD
END:VTIMEZONE
BEGIN:VEVENT
DTSTART;TZID=America/New_York:20260122T120000
DTEND;TZID=America/New_York:20260122T130000
DTSTAMP:20260421T182904
CREATED:20260108T135957Z
LAST-MODIFIED:20260121T153555Z
UID:33238-1769083200-1769086800@aiamiami.org
SUMMARY:Materials Matter an Approach to Wood and its Design Benefits webinar presented by RIVA
DESCRIPTION:
URL:https://aiamiami.org/event/materials-matter-an-approach-to-wood-and-its-design-benefits-webinar-presented-by-riva/
CATEGORIES:Featured
ATTACH;FMTTYPE=image/jpeg:https://media.aiamiami.org/wp-content/uploads/2026/01/riva-thumb.jpg
END:VEVENT
BEGIN:VEVENT
DTSTART;TZID=America/New_York:20260122T173000
DTEND;TZID=America/New_York:20260122T173000
DTSTAMP:20260421T182904
CREATED:20260106T172059Z
LAST-MODIFIED:20260121T153600Z
UID:33208-1769103000-1769103000@aiamiami.org
SUMMARY:El Monte Documentary Screening
DESCRIPTION:THIS FILM IS IN SPANISH WITH ENGLISH SUBTITLES \nMonte is a documentary that tells the story of the development\, design\, and construction of El Monte\, the iconic multi-family housing complex in San Juan\, Puerto Rico. Designed and built in the 1960s\, a transformative time in Puerto Rico’s socio-economic development\, El Monte\, as a project\, offers many lessons in urban design\, architecture\, and community living. \nEl Monte – Documentary Presentation \nEl Monte is a video documentary that tells the story of the development\, design\, and construction of El Monte\, the iconic multi-family housing complex in San Juan\, Puerto Rico. Designed and built in the 1960s\, a transformative time in Puerto Rico’s socio-economic development\, El Monte\, as a project\, offers many lessons in urban design\, architecture\, and community living. \nThe documentary was produced by Fundación por la Arquitectura (Puerto Rico Architecture Foundation) and directed by Abnel Hernandez of Abjoh Films. It features El Monte residents: Santiago Gala-Aguilera\, Melba Ferrer Quintero\, Sofía Irene Cardona and Vivian Otero Barrera. \nThis project was made possible thanks to the support of Humanidades Puerto Rico (Puerto Rican Foundation for the Humanities) and the National Endowment for the Humanities. \nSince its premiere\, the documentary has been screened both in and outside of Puerto Rico and has been selected for several local and international film festivals\, including: \n\nThe International Puerto Rican Heritage Film Festival in New York City\nThe Latino & Native American Film Festival in New Haven\, Connecticut\, where it received the Environmental\, Social\, Economic\, and Political Justice Award\nThe Vieques Human Rights Film Festival\, where it received an Honorable Mention in the Local Documentary Short Film category\nIt recently received an honorable mention in the research and theory category at the American Institute of Architects Puerto Rico Chapter Design Awards.\n\nFundación por la Arquitectura \nFundación por la Arquitectura (Puerto Rico Architecture Foundation) is a non-profit organization whose mission is to promote architecture and educate about the value of design in our built and natural environment.
URL:https://aiamiami.org/event/el-monte-documentary-screening/
CATEGORIES:Featured
ATTACH;FMTTYPE=image/jpeg:https://media.aiamiami.org/wp-content/uploads/2026/01/el-monte-thumb.jpg
END:VEVENT
END:VCALENDAR