BEGIN:VCALENDAR
VERSION:2.0
PRODID:-//AIA Miami | The Miami Chapter of American Institute of Architects - ECPv6.1.3//NONSGML v1.0//EN
CALSCALE:GREGORIAN
METHOD:PUBLISH
X-WR-CALNAME:AIA Miami | The Miami Chapter of American Institute of Architects
X-ORIGINAL-URL:https://aiamiami.org
X-WR-CALDESC:Events for AIA Miami | The Miami Chapter of American Institute of Architects
REFRESH-INTERVAL;VALUE=DURATION:PT1H
X-Robots-Tag:noindex
X-PUBLISHED-TTL:PT1H
BEGIN:VTIMEZONE
TZID:America/New_York
BEGIN:DAYLIGHT
TZOFFSETFROM:-0500
TZOFFSETTO:-0400
TZNAME:EDT
DTSTART:20260308T070000
END:DAYLIGHT
BEGIN:STANDARD
TZOFFSETFROM:-0400
TZOFFSETTO:-0500
TZNAME:EST
DTSTART:20261101T060000
END:STANDARD
END:VTIMEZONE
BEGIN:VEVENT
DTSTART;VALUE=DATE:20260227
DTEND;VALUE=DATE:20260302
DTSTAMP:20260421T132606
CREATED:20260105T184952Z
LAST-MODIFIED:20260303T153822Z
UID:33202-1772150400-1772409599@aiamiami.org
SUMMARY:Open House Miami
DESCRIPTION:Miami\, Unlocked.\nOpen House Miami unlocks the stories\, design\, architecture\, and experiences that define our vibrant city – all free and open to the public.
URL:https://aiamiami.org/event/open-house-miami/
CATEGORIES:Featured,Mark Your Calendar
ATTACH;FMTTYPE=image/jpeg:https://media.aiamiami.org/wp-content/uploads/2026/01/open-house-miami-tix-sale-2026-thumb.jpg
END:VEVENT
BEGIN:VEVENT
DTSTART;VALUE=DATE:20260307
DTEND;VALUE=DATE:20260308
DTSTAMP:20260421T132606
CREATED:20260218T203957Z
LAST-MODIFIED:20260218T203957Z
UID:33569-1772841600-1772927999@aiamiami.org
SUMMARY:WIA Palm Beach Women's Conference: Foundations of Power\, Women Designing the Future
DESCRIPTION:The AIA Palm Beach Women in Architecture (WIA) Women’s Conference provides a platform to celebrate and share the work of women leaders in the field of architecture and related industries\, while providing inspiration for professional and personal growth. It is a conversation on the challenges facing women of diverse backgrounds today in advancing their careers in the AEC industry. \nThis one-day conference will focus on balance\, career growth\, leadership\, and design\, providing pathways for emerging professionals to capitalize on the changing environment as well as work together with seasoned professionals to build a more equitable profession.
URL:https://aiamiami.org/event/wia-palm-beach-womens-conference-foundations-of-power-women-designing-the-future/
LOCATION:Boca Raton Innovation Campus (BRiC)\, 5000 T-Rex Avenue\, Boca Raton\, 33431\, United States
CATEGORIES:Featured,Mark Your Calendar
ATTACH;FMTTYPE=image/png:https://media.aiamiami.org/wp-content/uploads/2026/02/wia-palmbeach-thumb.png
END:VEVENT
BEGIN:VEVENT
DTSTART;TZID=America/New_York:20260326T180000
DTEND;TZID=America/New_York:20260326T200000
DTSTAMP:20260421T132606
CREATED:20260304T144131Z
LAST-MODIFIED:20260326T191815Z
UID:33700-1774548000-1774555200@aiamiami.org
SUMMARY:Celebrating Women’s History Month: Women Shaping Miami\, Celebrating the Past\, Shaping the Future
DESCRIPTION:Join us on March 26th at Touzet Studio for a special Women in Architecture event in celebration of Women’s History Month. Women Shaping Miami will highlight the voices and impact of women who are influencing the city’s built environment through design\, leadership\, and innovation. \nCelebrating the Past. Shaping the Future. \nThe evening will feature an engaging tertulia—an intimate\, salon-style conversation rooted in the Latin tradition of thoughtful dialogue—creating space for meaningful discussion\, connection\, and shared inspiration among Miami’s design community.
URL:https://aiamiami.org/event/celebrating-womens-history-month-women-shaping-miami-celebrating-the-past-shaping-the-future/
LOCATION:Touzet Studio\, 1501 SW 8 Street\, Suite B\, 2nd Floor\, Miami\, FL\, 33135\, United States
CATEGORIES:Featured
ATTACH;FMTTYPE=image/jpeg:https://media.aiamiami.org/wp-content/uploads/2026/03/tertulia-thumb.jpg
END:VEVENT
BEGIN:VEVENT
DTSTART;TZID=America/New_York:20260328T073000
DTEND;TZID=America/New_York:20260328T163000
DTSTAMP:20260421T132606
CREATED:20260114T193739Z
LAST-MODIFIED:20260304T200849Z
UID:33304-1774683000-1774715400@aiamiami.org
SUMMARY:Register Today! AIA Annual Soccer Tournament
DESCRIPTION:The AIA Fort Lauderdale\, AIA Miami and FLDCP Chapters proudly present our 7th Annual Soccer Tournament \nThis year’s Soccer Tournament is a family- oriented event that will bring design and construction-related fields together for a fun day of healthy competition and constant networking!
URL:https://aiamiami.org/event/save-the-date-aia-annual-soccer-tournament/
LOCATION:Soccer Town\, 1381 NW 129th Avenue\, Pembroke Pines\, FL\, United States
CATEGORIES:Featured,Mark Your Calendar
ATTACH;FMTTYPE=image/jpeg:https://media.aiamiami.org/wp-content/uploads/2026/01/soccer-2026-thumb.jpg
END:VEVENT
BEGIN:VEVENT
DTSTART;TZID=America/New_York:20260331T120000
DTEND;TZID=America/New_York:20260331T130000
DTSTAMP:20260421T132606
CREATED:20260316T181244Z
LAST-MODIFIED:20260316T181244Z
UID:33786-1774958400-1774962000@aiamiami.org
SUMMARY:Leadership in Architecture: From Emerging Professional to Firm Leader
DESCRIPTION:As architects advance in their careers\, leadership skills become critical to managing teams\, projects\, and firm operations. This panel discussion brings together four leaders from architecture firms across Florida to share candid insights from their journeys\, including how leadership develops throughout one’s career. \nThrough a moderated conversation\, panelists will discuss the development of leadership skills in practice\, navigating career transitions\, building influence without formal titles\, and leading teams\, projects\, and firm operations effectively. Topics include decision-making\, delegation\, risk management\, and balancing professional growth with personal life. \nThis program is designed for emerging professionals\, project architects\, and mid-career architects who aspire to leadership roles\, as well as current firm leaders interested in mentorship and succession. Participants will gain practical\, experience-based perspectives applicable across firm sizes and practice types. \nEarn 1 LU
URL:https://aiamiami.org/event/leadership-in-architecture/
CATEGORIES:Featured,Mark Your Calendar
ATTACH;FMTTYPE=image/jpeg:https://media.aiamiami.org/wp-content/uploads/2026/03/leadership-webinar-thumb.jpg
END:VEVENT
END:VCALENDAR